Workbook
Name _Toc452757528: #N/A
Name _Toc452757528: #N/A
Name _Toc452757528: #N/A
Name _Toc452757528: #N/A
Name _Toc452757528: #N/A
Name _Toc452757528: #N/A

Sheet Borehole BoQ
A3: BOQ for Rehabilitation of two boreholes and related civil works in Toqoshi 2 Awdal, Somaliland
A5: #. | B5: Description of activity | C5: Unit | D5: QTY | E5: Rate in USD | F5: Amount in USD
A6: A. | B6: Borehole activities
A7: 1 | B7: Electro-Mechanical Works
A8: 1.1 | B8: Mobilization of plant and Equipment to the project site (s).Rate shall be inclusive of Demobilization after completion of the works. | C8: Item | D8: 1 | F8: =D8*E8 -> 0
A9: 1.2 | B9: Procure and install a Submersible Pump Grundfos 7.5kW or equivalent, 40m head, 36m3/hr (provisional) c/w control panel 7.5kW, + cut-off, pump inverter 10.5kW, earthing system and all necessary accessories. | C9: Item | D9: 1 | F9: =D9*E9 -> 0
A10: 1.3 | B10: Replacement of borehole down pipes | C10: Item | D10: 1 | F10: =D10*E10 -> 0
A11: 1.4 | B11: Installation of rising main GI pipe 2” with all necessary fittings | C11: Pcs | D11: 7 | F11: =D11*E11 -> 0
A12: 1.5 | B12: Providing and installation of water resistant cables with required fittings such as insolation type etc. | C12: m | D12: 40 | F12: =D12*E12 -> 0
A13: 2 | B13: Well development | F13: =D13*E13 -> 0
A14: 2.1 | B14: Bailing, pumping, pressurizing and recirculation techniques to open the aquifer and ensure smooth flow of elevated water to the well. | C14: Days | D14: 2 | F14: =D14*E14 -> 0
A15: 2.2 | B15: Construct mass concrete of 1:2:4 mixing ratio for the head of wall 1 m above the ground and cover the hole. | C15: m³ | D15: 1 | F15: =D15*E15 -> 0
A16: 2.3 | B16: Allow a sum for testing and commissioning of the borehole equipping works | C16: Item | D16: 2 | F16: =D16*E16 -> 0
A17: 2.4 | B17: Visibility for both Donar logo and ADRA logo details will be shared during implementation, | C17: ls | D17: 1 | F17: =D17*E17 -> 0
B18: Total for Borehole | F18: =SUM(F8:F17) -> 0

Sheet Elevated water tank
A2: BOQ for Rehabilitation of two boreholes and related civil works in Toqoshi 2 Awdal, Somaliland.
A4: BOQ FOR THE REHABILITATION WORKS:
A5: # | B5: Description of activity | C5: Unit | D5: QTY | E5: Rate in USD | F5: Amount in USD
A6: B | B6: Concrete Elevated Water Tank
A7: 2 | B7: Superstructure works
A8: 2.1 | B8: Carefully strip off damaged external plastering, including preparing surfaces for new plastering and removal of surplus as directed by Engineer. | C8: Item | D8: 1 | F8: =D8*E8 -> 0
A9: 2.2 | B9: Repair the damaged concrete structures at elevated water tank at different locations with special approved repair material, with plaster water proofing cement as per instruction of Engineer. | C9: LS | D9: 1 | F9: =D9*E9 -> 0
A10: 2.3 | B10: Supply and apply minimum 2 coats of high quality colored emulsion paint "supercryle" (of approved product) on the internal walls. The price includes removal of the damaged old paint, surface preparations; all according to specifications and the Engineer's instructions. | C10: LS | D10: 1 | F10: =D10*E10 -> 0
A11: 2.4 | B11: Provide all necessary fittings to replace any damaged or leakage in the network pipes, fix all required plumbing materials such as height pressure PVC of diameter Ø 1½" feeder pipes from underground rising up to the elevated tank, with all required fittings (Elbows, T-joints, regulator valves. The price should include excavation of trench and fixing. | C11: Item | D11: 1 | F11: =D11*E11 -> 0
A12: 2.5 | B12: Repair all damaged uPVC pipes from elevated water tank. The work include all tees, bends, and all required fittings and accessories works as directed and approved by Engineer. | C12: Item | D12: 1 | F12: =D12*E12 -> 0
A13: 2.6 | B13: Supply and apply minimum 2 coats of high quality colored emulsion resist weather paint on the external & internal walls.The price includes removal of the damaged old paint, surface preparations, all according to specifications and the Engineer's instructions. | C13: LS | D13: 1 | F13: =D13*E13 -> 0
B14: Total for rehabilitation of RC Elevated water tank | F14: =SUM(F8:F13) -> 0

Sheet Distribution Piping
A3: ACTIVE- PROJECT: REHABILITATION OF BOREHOLE SUPPORT INFRASTRUCTURE WORKS- TOQOSHI 2 AWDAL, SOMALILAND
B4: BoQs PROPOSED BOREHOLE SUPPLIES
A5: ITEM | B5: DESCRIPTIONS | C5: Unit | D5: Quantity | E5: Unit Cost [USD] | F5: Total cost (USD)
A6: BILL NO.C | B6: BOREHOLE SUPPLIES
A7: 1 | B7: Foundation
A8: 1.1 | B8: Excavation of a trench (0.3m wide x 0.6m deep) for a total length of 2.7 km from one borehole to another borehole then to town. | C8: m3 | D8: =0.3*0.6*2700 -> 486 | F8: =D8*E8 -> 0
A9: 1.2 | B9: Supply & Install PVC heavy gauge Ø 2", each length 6m for deliver, including all necessary fittings from borehole to the another borehole, installed over a sand bed 7 cm thick and covered with sand for a minimum thickness of 10 cm. | C9: M.L. | D9: 2700 | F9: =D9*E9 -> 0
A10: 1.3 | B10: Refill the pipeline trench with duly compacted soil free of relicts of excavation | C10: M.L. | D10: 2700 | F10: =D10*E10 -> 0
A11: 1.4 | B11: Demarcation and layouts preparation | C11: LS | D11: 1 | F11: =D11*E11 -> 0
A12: 1.5 | B12: Construction of chamber control Box (50x50x50cm) | C12: Sum | D12: 8 | F12: =D12*E12 -> 0
A13: 1.5 | B13: Testing the system | C13: Sum | D13: 1 | F13: =D13*E13 -> 0
A15: 1.6 | B15: Supply of 2 inch uPVC pressure pipes for supplying water from tank to the town also connect to animal trough and water kiosks | C15: Pcs | D15: 450 | F15: =D15*E15 -> 0
A16: 1.7 | B16: Supply of all the fittings including elbows, tees, unions, gate valves, flow meters etc | C16: LS | D16: 1 | F16: =D16*E16 -> 0
A18: Total of Bill NO. C, BoQs of Piping, carried forward to summary | F18: =SUM(F8:F17) -> 0

Sheet Caretaker room
A3: ACTIVE- PROJECT: REHABILITATION OF BOREHOLE SUPPORT INFRASTRUCTURE WORKS- TOQOSHI 2 AWDAL, SOMALILAND
A4: BOQ FOR THE CONSTRUCTION WORKS:
A5: CONSTRUCTION OF CARETAKER ROOM, SOLAR ROOM 4*4*1.5 meters
A6: #. | B6: Description of activity | C6: Unit | D6: QTY | E6: Rate in USD | F6: Amount in USD
A7: D. | B7: Caretaker room
A8: 1 | B8: Sub structure works
A9: 1.1 | B9: Excavation of foundation trench 0.4m wide and 0.8m depth. | C9: m³ | D9: =0.4*0.8*(23) -> 7.36 | F9: =D9*E9 -> 0
A10: =A9+0.1 -> 1.2 | B10: Plain concrete in 50 mm thick blinding layer (1:3:6 mix) under the foundation wall. | C10: m³ | D10: =0.05*0.4*(23) -> 0.46 | F10: =D10*E10 -> 0
A11: =A10+0.1 -> 1.3 | B11: Rubble stone foundation wall in cement & sand mortar 1:6 (1.0 m x 0.4m wide) min. 35cm above ground level. | C11: m³ | D11: =1*0.4*(23) -> 9.2 | F11: =D11*E11 -> 0
A12: =A11+0.1 -> 1.4 | B12: R.C (1:2:4 mix) in ground beam (0.4m x0.20m ), with 8N0. Y14 re-bars & R6 links @ 200 mm c/c. | C12: m³ | D12: =0.2*0.4*(23) -> 1.84 | F12: =D12*E12 -> 0
A13: =A12+0.1 -> 1.5 | B13: 20 cm thick stone hard-core filling well compacted and levelled. | C13: m³ | D13: =0.2*(22) -> 4.4 | F13: =D13*E13 -> 0
B14: Sub total - 1 | F14: =SUM(F9:F13) -> 0
A15: 2 | B15: Superstructure works including conc. floor slab
A16: 2.1 | B16: Mass concrete (1:3:6 mix ) in conc. floor slab 10cm thick. | C16: m³ | D16: =0.1*(22) -> 2.2 | F16: =D16*E16 -> 0
A17: =A16+0.1 -> 2.2 | B17: Masonry cement blocks walling , 20cm thickness bedded and jointed with cement sand mortar 1:4 proportion ratio. Face wall should be in plumb. Corner cement block should be good dressed and jointed to correct angles. All gaps in between cement blocks should be filled with cement sand mortar well mixed also wall should be kept moist for a period at least 10 days minimum, and be protected from sun | C17: m² | D17: =3.4*(23) -> 78.2 | F17: =D17*E17 -> 0
A18: =A17+0.1 -> 2.3 | B18: Masonry cement blocks ventilation hollow blocks walling , 20cm thickness bedded and jointed with cement sand mortar 1:4 proportion ratio. Face wall should be plumb. Corner cement block should be good, dressed and jointed to correct angles. All gaps in between cement blocks should be filled with cement sand mortar well mixed, also wall should be kept moist for a period at least 10 days minimum, and be protected from sun. | C18: m² | D18: =2*(4) -> 8 | F18: =D18*E18 -> 0
A19: =A18+0.1 -> 2.4 | B19: R.C (1:2:4 mix) in above the doors & windows conc. ring beams 15 cm depth, each with 6N0. Y14 re-bars & R6 links @ 250 mm c/c. | C19: m³ | D19: =0.15*0.2*(9.8+4*4.4+9.8) -> 1.116 | F19: =D19*E19 -> 0
A20: =A19+0.1 -> 2.5 | B20: R.C (1:2:4 mix) top tie beam conc. ring beams 30 cm depth, and 20cm wide, each with 6N0. Y14 re-bars & R6 links @ 250 mm c/c. | C20: m³ | D20: =0.15*0.2*(9.8+4*4.4+9.8) -> 1.116 | F20: =D20*E20 -> 0
A21: =A20+0.1 -> 2.6 | B21: RCC (1:2:4) Columns of 20cmx20cm with reinforced No. 4 iron bars of diameter Ø 14mm | C21: m³ | D21: =3.2*0.2*0.2*8 -> 1.024 | F21: =D21*E21 -> 0
A22: =A21+0.1 -> 2.7 | B22: Constructing of R.C (1:2:4 Mixing ratio) floor slab of 0.1m thick for the generator room with Ø 12mm & 10mm main bars and 8mm distribution bars both ways at top and bottom and distanced 150mm c/c N.B The slab should mixed by machine, also it has to be kept moist and watered for a period of minimum 3 weeks and protect from sun | C22: m³ | D22: =0.1*4*(3.5+2) -> 2.2 | F22: =D22*E22 -> 0
A23: =A22+0.1 -> 2.8 | B23: Constriction of 1:2:4 mixing ratio concrete at front of the generator house | C23: m³ | D23: =(0.45*1.51)/2*2.94 -> 0.998865 | F23: =D23*E23 -> 0
A24: =A23+0.1 -> 2.9 | B24: Construction of ceramic floor tiling for pavement of the caretaker room. The work consist providing of ceramic floor tile connected and jointed with cement sand mortar of 1:2 mixing ratio | C24: m² | D24: =3.5*4 -> 14 | F24: =D24*E24 -> 0
A25: 2.1 | B25: Construction wall skirt tiling for internal wall of the caretaker, by ceramic wall skirting tile connected and jointed with cement sand mortar of 1:2 mixing ratio | C25: m | D25: =0.15*(27) -> 4.05 | F25: =D25*E25 -> 0
B26: Sub total - 2 | F26: =SUM(F16:F25) -> 0
A27: 3 | B27: Roofing
A28: 3.1 | B28: Construction of gobble end GI sheet roof of 3m long and 1m wide with wooden trusses of height 1.0m made by timber of cross section 0.08mx0.04m and double tie beam made by timber of cross section 0.10mx0.025m, and wooden battens of 0.05mx0.05m. | C28: m² | D28: =4*5.7 -> 22.8 | F28: =D28*E28 -> 0
A29: =A28+0.1 -> 3.2 | B29: Construction of decorated ceiling board to the caretaker room with supporting wooden frame of 0.04mx0.04m distanced each to other 0.62m both side. N.B. Note that this ceiling is included also the outside projection of the room | C29: m² | D29: =4*5.5 -> 22 | F29: =D29*E29 -> 0
B30: Construction of 20cm fascia board | C30: m | D30: 19.2 | F30: =D30*E30 -> 0
B31: Sub total - 3 | F31: =SUM(F28:F30) -> 0
A32: 4 | B32: Plastering and other finishing
A33: 4.1 | B33: Construction of external & internal plastering, 25mm thick, for all constructed wall surfaces by cement / sand mix 1:5, with wood float finish. | C33: m² | D33: =2*(78) -> 156 | F33: =D33*E33 -> 0
A34: =A33+0.1 -> 4.2 | B34: Apply two coats whitewashing paint to all wall surfaces, reinforced concrete and pillars. | C34: m² | D34: =2*(78) -> 156 | F34: =D34*E34 -> 0
A35: =A34+0.1 -> 4.3 | B35: Apply two coats distemper paint to all wall surfaces, reinforced concrete and pillars. | C35: m² | D35: =2*(78) -> 156 | F35: =D35*E35 -> 0
B36: Sub total - 4 | F36: =SUM(F33:F35) -> 0
A37: 5 | B37: Gate, doors & Windows and other works
A38: 5.1 | B38: Provide and fix 2.2m height and 2.34m wide steel doors for the generator, made by skeleton frame of steel hollow box of 40mmx40mmx2mm and decorated by steel hollow box of 25mmx25mmx1mm distanced each to other not more than 20cm c/c; covered to the bottom part by GI sheets of 1.5mm thick fixed with continuous weld. The rate shall include all fittings, fixtures and three coats of approved quality of anti-rust paint. | C38: Item | D38: 1 | F38: =D38*E38 -> 0
A39: =A38+0.1 -> 5.2 | B39: Provide and fix new 1.0mx1.0m steel windows with required protection bars and insects net system and all required fittings. | C39: Item | D39: 2 | F39: =D39*E39 -> 0
B40: Sub total - 5 | F40: =SUM(F38:F39) -> 0
A41: 6 | B41: Electricity
A42: 6.1 | B42: Provide and fix adequate electrical wiring system inside of the wall with PVC pipes, Provide also 4 sockets and four of 20W fluorescent lamps for room. Also one socket and one incandescent lamp . Finally supply and fix Main automatic switch board. | C42: lum | D42: 1 | F42: =D42*E42 -> 0
...

Sheet Solar Fence
A3: ACTIVE- PROJECT: REHABILITATION OF BOREHOLE SUPPORT INFRASTRUCTURE WORKS-TOQOSHI 2 AWDAL, SOMALILAND.
B4: BoQs of PROPOSED SOLAR FENCE AND GATE
A5: ITEM | B5: DESCRIPTIONS | C5: Unit | D5: Quantity | E5: Unit Cost [USD] | F5: Total cost (USD)
A6: BILL NO.E | B6: FENCE AND GATE
A7: A 1 | B7: GATE
A8: 1.1 | B8: Excavate for column pads, depth not exceeding 1m and of 0.5 x 0.5 mm width commencing at the original ground level, and cart away to spoil as directed | C8: M3 | D8: 0.5 | F8: =D8*E8 -> 0
B9: Reinforced Concrete using 3/4 + 1/2" mix machine crushed Ballast in:
A10: 1.2 | B10: Vibrated reinforced concrete (class 25) column base, 350mm deep | C10: M3 | D10: 0.05 | F10: =D10*E10 -> 0
A11: =A10+0.1 -> 1.3 | B11: Assorted high tensile twisted steel reinforcement bars to B.S 4446. | C11: KG | D11: 20 | F11: =D11*E11 -> 0
A12: =A11+0.1 -> 1.4 | B12: Sawn formwork to vertical sides of the columns | C12: M2 | D12: 10 | F12: =D12*E12 -> 0
A13: =A12+0.1 -> 1.5 | B13: G.I CHS Columns | C13: NO | D13: 2 | F13: =D13*E13 -> 0
A14: =A13+0.1 -> 1.6 | B14: Supply and fix single leaf steel gate size 1500 x 2100mm high CHS poles and heavy duty wire mesh fixed onto the concrete columns using heavy duty steel pin hinges; with all fastening accessories including all cutting welding, grinding and priming with one coat of grey oxide fixing. The gate should also have peep holes of not more tha 25mm dia with a slilding door. It should also have 2 locking mechanisms, top and bottom. | C14: No | D14: 1 | F14: =D14*E14 -> 0
A15: A 2 | B15: FENCE
B16: The contractor is reminded to include in his pricing, the cost of supply, cutting, waste and erection and all other necessary fittings including welding lugs or fishtailing onto the 50x50x6mm angle bars. Angle bars and the necessary fixing and anchorage to be treated as described in the specifications. Fence construction should be according to BS 1722-Part 10
A17: 2.1 | B17: Clear the perimeter of the fencing area of all bushes scrubs and obstructions | C17: M2 | D17: 24 | F17: =D17*E17 -> 0
A18: =A17+0.1 -> 2.2 | B18: Excavate 300x300x500 deep holes to receive mass concrete (1:3:6)bases as shown in the drawings. | C18: M3 | D18: 0.6 | F18: =D18*E18 -> 0
A19: =A18+0.1 -> 2.3 | B19: Supply 50x5mm CHS welded posts with ends closed as shown in the drawings, bottom end fixed with 100x100mmx3mm plate and bedded in mass concrete.The post to be 2100mm high from ground level to the top. Allow for drlling 7No holes as shown. | C19: NO | D19: 13.33 | F19: =D19*E19 -> 0
A20: =A19+0.1 -> 2.4 | B20: Extra Over 50x5mm posts for bracing on either side every fourth intermediate post and all corner posts. | C20: NO | D20: 3.33 | F20: =D20*E20 -> 0
B21: Mass Concrete Mix 1:3:6/20mm using 3/4 Local Ballast in:
A22: 3.1 | B22: Supply all materials and cast 0.3m diameter x 0.6m depth mass concrete class Q (1:3:6) to the 50mm dia. CHS poles while ensuring they remain plumb 600mm deep below the ground level and 2500mm (2.5m) above ground level. | C22: M3 | D22: 0.6 | F22: =D22*E22 -> 0
A23: =A22+0.1 -> 3.2 | B23: Supply and weld a 12mm high tensile steel rod along the bases of the posts for anchoring the chainlink to the ground along the whole length of the fence.Allow for excavating 200mm deep along the fence to fix the rod. | C23: LM | D23: 40 | F23: =D23*E23 -> 0
A24: =A23+0.1 -> 3.3 | B24: Allow for curing of all concrete works | C24: Item | D24: 1 | F24: =D24*E24 -> 0
A25: =A24+0.1 -> 3.4 | B25: Supply and fix 3No strands of 12G barbed wire bound onto either sides of the Y post using 3mm galvanised wire as shown in the drawings. | C25: LM | D25: 280 | F25: =D25*E25 -> 0
A26: =A25+0.1 -> 3.5 | B26: Ditto for posts | C26: LM | D26: 240 | F26: =D26*E26 -> 0
A27: =A26+0.1 -> 3.6 | B27: Supply and and fix 2500mm high HEAVY GUAGE chainlink to posts using 3mm galvanised wire. Allow for securing the chainlink to a 12mm reinforcement bar welded at the base btween the posts. | C27: LM | D27: 40 | F27: =D27*E27 -> 0
A28: =A27+0.1 -> 3.7 | B28: Supply and fix razer wire secured on the chainlink, barbed wire and Y posts by binding wire and rolled approximately 600mm dia. | C28: LM | D28: 40 | F28: =D28*E28 -> 0
A29: =A28+0.1 -> 3.8 | B29: Prepare and apply one under coat of epoxy based primer and two finishing epoxy based paints to metal surfaces n.e 250mm in alternate bands of 300mm | C29: NO | D29: 16.67 | F29: =D29*E29 -> 0
A31: Total of Bill NO. E, BoQs of SOLAR FENCE AND GATE, carried forward to summary | F31: =SUM(F8:F30) -> 0

Sheet Solar system Installations
A3: BOQ for Rehabilitation of two borehole and related civil works in Toqoshi 2 Awdal somaliland.
A4: BOQ FOR THE REHABILITATION WORKS:
B5: INSTALLATION OF SOLAR SYSTEM
A6: ITEM | B6: DESCRIPTION | C6: UNIT | D6: QTY | E6: UNIT PRICE | F6: TOTAL in US$
A7: 1. | B7: Mobilization of staff, equipment and materials to site | C7: Item | D7: 1 | F7: =D7*E7 -> 0
A8: Main equipment (Supply and install)
A9: 2. | B9: Supply and install (Mono 450W solar panel) 4pcs per string , total 3 strings Power: 450W Voltage: 49V, Weight:25KG Size:2265*1260*35mm, Application Class: A Warranty: 5 years | C9: No | D9: 25 | F9: =D9*E9 -> 0
A10: 3. | B10: Supply & Install aluminum Roof Mounting Structure frames-Imported standard, solar panels support structure to safely carry all the solar panels strategic to the solar rays. Solar panels support structure, The price includes concrete foundations as per instruction by Engineer. | C10: LS | D10: 1 | F10: =D10*E10 -> 0
B11: Sub-total-1 | F11: =SUM(F7:F10) -> 0
A12: Accessories (supply and install)
A13: 4. | B13: DC Combiner Box, 6 Input 1output Warranty: 1 years | C13: Unit | D13: 1 | F13: =D13*E13 -> 0
A14: 5. | B14: PV Cable, PV 4 mm2 | C14: M | D14: 50 | F14: =D14*E14 -> 0
A15: 6. | B15: Accessories, Mc4, Cable tie, Autoswitch and etc. | C15: Unit | D15: 1 | F15: =D15*E15 -> 0
A16: 7. | B16: B Meters DN40 water meter | C16: No | D16: 1 | F16: =D16*E16 -> 0
A17: 8. | B17: Installation charges. | C17: LS | D17: 1 | F17: =D17*E17 -> 0
B18: Sub-total-2 | F18: =SUM(F13:F17) -> 0
B19: Grand Total (F) for Solar Installation | F19: =F11+F18 -> 0

Sheet summary sheet
A2: Bill No. | B2: REFURBISHMENT BoQs SUMMARY
B4: BOQ for rehabilitation of borehole and related civil works in Toqoshi 2, Awdal, Somaliland
B6: Item | F6: QTY | G6: Unit |Price | H6: Total Price
A7: 1 | B7: REHABILITATION OF BOREHOLES | F7: 1 | G7: 1 | H7: ='Borehole BoQ'!F18 -> 0
A9: 2 | B9: REHABILITATION OF ELEVATED WATER TANK | F9: 1 | G9: 1 | H9: ='Elevated water tank'!F14 -> 0
A11: 3 | B11: DISTRIBUTION PIPELINE | F11: 1 | G11: 1 | H11: ='Distribution Piping'!F18 -> 0
A12: 4 | B12: CONSTRUCTION CARETAKER ROOM | F12: 1 | G12: 1 | H12: ='Caretaker room'!F44 -> 0
A13: 5 | B13: SOLAR FENCE AND MAIN GATE | F13: 1 | G13: 1 | H13: ='Solar Fence'!F31 -> 0
A14: 6 | B14: SOLAR SYSTEM INSTALLATION | F14: 1 | G14: 1 | H14: ='Solar system Installations'!F19 -> 0
O15: 0
B16: GRAND TOTAL FOR REFURBISHMENT BoQs | F16: =SUM(H7:H15) -> 0
A19: Important Note: Locations of boreholes to be rehabilitated, Solary systems, and pumping area will be in the following coordinates: Toqoshi 2 Borehole GPS Locations ; 11 19'37.95N,43 23'29.22E
B20: Contact Person:…..............................................................................................................................
B21: Company Name:…………………..........................................................................................................
B22: Address: ……………………………………………………………………………………………..............................................
B23: Tel No: …………………………………………………………………………………………………........................................................
B24: Date:………………………………………………………………………………………………….............................................
B25: Signed:…........................................................................................................................................
B26: Stamp: ...………………………………………………………………………………….................................................
