Workbook

Sheet Summary
A2: BILL OF QUANTITY (BOQ)
A3: Program Name: SINAAN
A4: Project Name: Purchase Supply and Installation of 190 Solar Street Lights-BRA (5.635km) - PR 054
A5: Project Location: Mogadishu (BRA), Somalia
A7: Name of Organization/Firm:
A8: BILL SUMMARY
A9: S# | B9: ITEM DESCRIPTION | I9: AMOUNT (GBP)
A10: 1 | B10: Preliminaries, Safety Gear, Training and Shipping | I10: =Preliminary!F20 -> 0
A11: 2 | B11: Somali National University (SNU-MK4) (1.43 km, 30mt Span) ( 49 Lights) | I11: =' Somali National University KM4'!F20 -> 0
A12: 3 | B12: SNU-KM4 Main Gate Access Road (0.235km, 30mt Span) (8 Lights) | I12: ='SNU-KM4 Main Gate Access Rd'!F20 -> 0
A13: 4 | B13: Imam Shafici Road (0.53 km, 30mt Span) (18 Lights) | I13: ='Imam Shafici Road'!F20 -> 0
A14: 5 | B14: Darasalam Road (2.2 km, Double Arm 30mt Span with 14 Billboard) (74 Lights) | I14: ='Darasalam Road'!F21 -> 0
A15: 6 | B15: Jamhuriya Road (1.23 km, Double Arm 30mt Span with 6 Billboad) 41 Lights) | I15: ='Jamhuriya Road'!F21 -> 0
A16: 7 | B16: Maintenance Kits | I16: ='Maintenance Tools Kit'!F37 -> 0
A17: 8 | B17: Mandatory Spare Parts | I17: ='Mandatory Spare Parts'!F39 -> 0
A18: 9 | B18: Contractors All Risk Insurance Provide Quotation from well know and established Insurance Company with Policy Information to be provided as per guidance in Attachment IV In the RFP)
A19: GRAND TOTAL | I19: =SUM(I10:J17) -> 0
A20: GRAND TOTAL in Words:
A21: Note
A22: 1. All quoted price shall include materials mobilization, transportation and labor cost.
A23: 2. The Bidder MUST provide Excel file and signed and stamp PDF copy of this document
H26: SIGNATURE
H29: STAMP

Sheet Preliminary
A2: BILL OF QUANTITY
A4: Program Name: SINAAN PROGRAMME
A5: Project Name: Purchase Supply and Installation of 190 Solar Street Lights (5.635km) - PR 051
A6: Project Location: Mogadishu, Somalia
A7: Name of Organization/Firm:
A8: 1 | B8: PRELIMINARIES | C8: Unit | D8: Quantity | E8: DAP Unit Price (GBP ) | F8: DAP Total Price (GBP)
A9: 1.1 | B9: Mobilization and Demobilization, preliminary works, clearing of site , site establishment including all required necessary construction materials and tools. | C9: LS | D9: 1 | F9: =E9*D9 -> 0
A10: 2 | B10: SAFETY GEAR ASSORTED FOR CONTRACTOR STAFF
A11: 2.1 | B11: Reflector Jackets | C11: L.S | D11: 12 | F11: =E11*D11 -> 0
A12: 2.2 | B12: Safety Shoes | C12: L.S | D12: 12 | F12: =E12*D12 -> 0
A13: 2.3 | B13: Helmet | C13: L.S | D13: 12 | F13: =E13*D13 -> 0
A14: 2.4 | B14: Safety Glasses | C14: L.S | D14: 12 | F14: =E14*D14 -> 0
A15: 2.5 | B15: Gloves | C15: L.S | D15: 12 | F15: =E15*D15 -> 0
A16: 3 | B16: TRAININGS
A17: 3.1 | B17: Onsite Training for Operation and Maintenance | C17: L.S | D17: 1 | F17: =E17*D17 -> 0
A18: 4 | B18: SHIPPING/FREIGHT
A19: 4.1 | B19: Material Shipping/Freight, transport, insurance, and customs cost for all sites | C19: L.S | D19: 1 | F19: =E19*D19 -> 0
A20: GRAND TOTAL | F20: =SUM(F9:F19) -> 0
A21: Sub Total in words :
A22: NAME OF BIDDER:
A23: SIGNATURE OF BIDDER:

Sheet  Somali National University KM4
A2: BILL OF QUANTITY (BOQ)
A3: Program Name: SINAAN PROGRAMME
A4: Project Name: Purchase Supply and Installation of 190 Solar Street Lights (5.635km) - PR 051
A5: Road Name: Somali National University Internal roads and Walk ways (49, Lights 1.43 km, 30mt Span)
A6: Project Location: Mogadishu (BRA), Somalia
A7: Name of Organization/Firm:
A8: Item No. | B8: Description | C8: Unit | D8: Quantity | E8: DAP Unit Price (GBP ) | F8: DAP Total Price (GBP)
A9: 1.1 | B9: Exacavtion for foundation of the pole, in all kinds of soil and not exceeding 1.1m depth and the Area is (0.7*0.7)m², including dressing of bottom and sides of trenches. Stack excavated soil clear from edges of excavation, disposal of surplus soil out of site as directed by engineer. | C9: m³ | D9: 26.41 | F9: =D9*E9 -> 0
A10: 1.2 | B10: Reinforced concrete foundation complete with anchor bolts, reinforcement steel, formwork, concrete (minimum 3000 psi), curing, backfilling and all associated works as specified. | C10: m³ | D10: 43.22 | F10: =D10*E10 -> 0
A11: 2 | B11: PURCHASE, SUPPLY AND INSTALLATION OF COMPLETE SOLAR STREET LIGHT SYSTEM
A12: 2.1 | B12: LED Luminaire, 150 W, efficacy ≥150 lm/W, IP66, aluminium housing, 5000–6500 K complete with all accessories. | C12: Pcs | D12: 49 | F12: =D12*E12 -> 0
A13: 2.2 | B13: PV Module, 150 Wp Mono-crystalline, complete with mounting accessories. | C13: Pcs | D13: 49 | F13: =D13*E13 -> 0
A14: 2.3 | B14: Battery, 12.8 V, 150 Ah LiFePO₄,80% DOD, >2000 cycles with complete with battery enclosure, DC SPD and all relevant accessories. | C14: Pcs | D14: 49 | F14: =D14*E14 -> 0
A15: 2.4 | B15: MPPT Solar Charge Controller (10 A) with dusk-to-dawn control and protections. | C15: Pcs | D15: 49 | F15: =D15*E15 -> 0
A16: 2.5 | B16: 6 m Hot-Dip Galvanized Steel Pole : base plate 300x300x20mm; 4XM24 anchor bolts, wind load compliant complete with Single outreach arm, base plate, anchor bolts and accessories. | C16: Pcs | D16: 49 | F16: =D16*E16 -> 0
A17: 2.6 | B17: Supply and installation 2/24 V DC , with a mimum detection range of 15m, weatherproof passive infrared (PIR) motion sensor suitable for outdoor solar street lighting applications, fully compatible with solar charge controller and LED luminaire. Sensor shall enable automatic light intensity control based on motion detection. Includes mounting, cabling, programming, testing, and commissioning complete in all respects. | C17: Pcs | D17: 49 | F17: =D17*E17 -> 0
A18: 3 | B18: INSTALLATION & COMMISSIONING
A19: 3.1 | B19: Installation, testing, commissioning, photometric testing, GPS recording, training, documentation and handover. | C19: Lot | D19: 1 | F19: =D19*E19 -> 0
A20: SUBTOTAL | F20: =SUM(F9:F19) -> 0
A21: Sub Total in words :
A22: NAME OF BIDDER:
A23: SIGNATURE OF BIDDER:

Sheet SNU-KM4 Main Gate Access Rd
A2: BILL OF QUANTITY (BOQ)
A3: Program Name: SINAAN PROGRAMME
A4: Project Name: Purchase Supply and Installation of 190 Solar Street Lights (5.635km) - PR 051
A5: Road Name: Somali National University Access roads from KM 4 (8, Lights 0.235 km, 30mt Span)
A6: Project Location: Mogadishu (BRA), Somalia
A7: Name of Organization/Firm:
A8: Item No. | B8: Description | C8: Unit | D8: Quantity | E8: DAP Unit Price (GBP ) | F8: DAP Total Price (GBP)
A9: 1.1 | B9: Excavation for foundation of the pole in all soil types, not exceeding 1.1 m depth, including dressing, disposal of surplus material, dewatering where required, and all associated works. | C9: m³ | D9: 4.32 | F9: =D9*E9 -> 0
A10: 1.2 | B10: Reinforced concrete foundation complete with anchor bolts, reinforcement steel, formwork, concrete (minimum 3000 psi), curing, backfilling and all associated works as specified. | C10: m³ | D10: 7.06 | F10: =D10*E10 -> 0
A11: 2 | B11: PURCHASE, SUPPLY AND INSTALLATION OF COMPLETE SOLAR STREET LIGHT SYSTEM
A12: 2.1 | B12: LED Luminaire, 150 W, efficacy ≥150 lm/W, IP66, aluminium housing, 5000–6500 K complete with all accessories. | C12: Pcs | D12: 8 | F12: =D12*E12 -> 0
A13: 2.2 | B13: PV Module, 150 Wp Mono-crystalline, complete with mounting accessories. | C13: Pcs | D13: 8 | F13: =D13*E13 -> 0
A14: 2.3 | B14: Battery, 12.8 V, 150 Ah LiFePO₄,80% DOD, >2000 cycles with complete with battery enclosure, DC SPD and all relevant accessories. | C14: Pcs | D14: 8 | F14: =D14*E14 -> 0
A15: 2.4 | B15: MPPT Solar Charge Controller (10 A) with dusk-to-dawn control and protections. | C15: Pcs | D15: 8 | F15: =D15*E15 -> 0
A16: 2.5 | B16: 8 m Hot-Dip Galvanized Steel Pole : base plate 300x300x20mm; 4XM24 anchor bolts, wind load compliant complete with Single outreach arm, base plate, anchor bolts and accessories. | C16: Pcs | D16: 8 | F16: =D16*E16 -> 0
A17: 2.6 | B17: Supply and installation 2/24 V DC , with a mimum detection range of 15m, weatherproof passive infrared (PIR) motion sensor suitable for outdoor solar street lighting applications, fully compatible with solar charge controller and LED luminaire. Sensor shall enable automatic light intensity control based on motion detection. Includes mounting, cabling, programming, testing, and commissioning complete in all respects. | C17: Pcs | D17: 8 | F17: =D17*E17 -> 0
A18: 3 | B18: INSTALLATION & COMMISSIONING
A19: 3.1 | B19: Installation, testing, commissioning, photometric testing, GPS recording, training, documentation and handover. | C19: Lot | D19: 1 | F19: =D19*E19 -> 0
A20: SUBTOTAL | F20: =SUM(F9:F19) -> 0
A21: Sub Total in words :
A22: NAME OF BIDDER:
A23: SIGNATURE OF BIDDER:

Sheet Imam Shafici Road
A2: BILL OF QUANTITY (BOQ)
A3: Program Name: SINAAN PROGRAMME
A4: Project Name: Purchase Supply and Installation of 190 Solar Street Lights (5.635km) - PR 051
A5: Road Name: Imam Shafici road (18 Lights 0.527 km, 30mt Span)
A6: Project Location: Mogadishu (BRA), Somalia
A7: Name of Organization/Firm:
A8: Item No. | B8: Description | C8: Unit | D8: Quantity | E8: DAP Unit Price (GBP ) | F8: DAP Total Price (GBP)
A9: 1.1 | B9: Excavation for foundation of the pole in all soil types, not exceeding 1.1 m depth, including dressing, disposal of surplus material, dewatering where required, and all associated works. | C9: m³ | D9: 9.7 | F9: =D9*E9 -> 0
A10: 1.2 | B10: Reinforced concrete foundation complete with anchor bolts, reinforcement steel, formwork, concrete (minimum 3000 psi), curing, backfilling and all associated works as specified. | C10: m³ | D10: 15.88 | F10: =D10*E10 -> 0
A11: 2 | B11: PURCHASE, SUPPLY AND INSTALLATION OF COMPLETE SOLAR STREET LIGHT SYSTEM
A12: 2.1 | B12: LED Luminaire, 150 W, efficacy ≥150 lm/W, IP66, aluminium housing, 5000–6500 K complete with all accessories. | C12: Pcs | D12: 18 | F12: =D12*E12 -> 0
A13: 2.2 | B13: PV Module, 150 Wp Mono-crystalline, complete with mounting accessories. | C13: Pcs | D13: 18 | F13: =D13*E13 -> 0
A14: 2.3 | B14: Battery, 12.8 V, 150 Ah LiFePO₄,80% DOD, >2000 cycles with complete with battery enclosure, DC SPD and all relevant accessories. | C14: Pcs | D14: 18 | F14: =D14*E14 -> 0
A15: 2.4 | B15: MPPT Solar Charge Controller (10 A) with dusk-to-dawn control and protections. | C15: Pcs | D15: 18 | F15: =D15*E15 -> 0
A16: 2.5 | B16: 8 m Hot-Dip Galvanized Steel Pole : base plate 300x300x20mm; 4XM24 anchor bolts, wind load compliant complete with Single outreach arm, base plate, anchor bolts and accessories. | C16: Pcs | D16: 18 | F16: =D16*E16 -> 0
A17: 2.6 | B17: Supply and installation 2/24 V DC , with a mimum detection range of 15m, weatherproof passive infrared (PIR) motion sensor suitable for outdoor solar street lighting applications, fully compatible with solar charge controller and LED luminaire. Sensor shall enable automatic light intensity control based on motion detection. Includes mounting, cabling, programming, testing, and commissioning complete in all respects. | C17: Pcs | D17: 18 | F17: =D17*E17 -> 0
A18: 3 | B18: INSTALLATION & COMMISSIONING
A19: 3.1 | B19: Installation, testing, commissioning, photometric testing, GPS recording, training, documentation and handover. | C19: Lot | D19: 1 | F19: =D19*E19 -> 0
A20: SUBTOTAL | F20: =SUM(F9:F19) -> 0
A21: Sub Total in words :
A22: NAME OF BIDDER:
A23: SIGNATURE OF BIDDER:

Sheet Darasalam Road
A2: BILL OF QUANTITY (BOQ)
A3: Program Name: SINAAN PROGRAMME
A4: Project Name: Purchase Supply and Installation of 190 Solar Street Lights (5.635km) - PR 051
A5: Road Name: Daras Salam road (74, Poles, 148 Lights 2.2 km, 30mt Span)
A6: Project Location: Mogadishu (BRA), Somalia
A7: Name of Organization/Firm:
A8: Item No. | B8: Description | C8: Unit | D8: Quantity | E8: DAP Unit Price (GBP ) | F8: DAP Total Price (GBP)
A9: 1.1 | B9: Excavation for foundation of the pole in all soil types, not exceeding 1.1 m depth, including dressing, disposal of surplus material, dewatering where required, and all associated works. | C9: m³ | D9: 39.9 | F9: =D9*E9 -> 0
A10: 1.2 | B10: Reinforced concrete foundation complete with anchor bolts, reinforcement steel, formwork, concrete (minimum 3000 psi), curing, backfilling and all associated works as specified. | C10: m³ | D10: 65.27 | F10: =D10*E10 -> 0
A11: 2 | B11: PURCHASE, SUPPLY AND INSTALLATION OF COMPLETE SOLAR STREET LIGHT SYSTEM
A12: 2.1 | B12: LED Luminaire, 150 W, efficacy ≥150 lm/W, IP66, aluminium housing, 5000–6500 K, complete with all accessories. (2 luminaires per pole) | C12: Pcs | D12: 148 | F12: =D12*E12 -> 0
A13: 2.2 | B13: PV Module, 150 Wp Mono-crystalline, complete with galvanized mounting brackets and accessories. (2 modules per pole) | C13: Pcs | D13: 148 | F13: =D13*E13 -> 0
A14: 2.3 | B14: Battery, 12.8 V, 150 Ah LiFePO₄,80% DOD, >2000 cycles with complete with battery enclosure, DC SPD and all relevant accessories. (2 batteries per pole) | C14: Pcs | D14: 148 | F14: =D14*E14 -> 0
A15: 2.4 | B15: MPPT Solar Charge Controller (10 A) with dusk-to-dawn control, battery management, surge protection and all accessories. (2 controllers per pole) | C15: Pcs | D15: 148 | F15: =D15*E15 -> 0
A16: 2.5 | B16: 10 m Hot-Dip Galvanized Octagonal Steel Pole, minimum 3 mm wall thickness, hot-dip galvanized to ISO 1461, complete with double outreach arms,300x300x20mm base plate, 4XM24 anchor bolts, foundation template, hand-hole, cable gland, terminal block, earthing connection, anti-theft locking system, and all accessories. | C16: Pcs | D16: 74 | F16: =D16*E16 -> 0
A17: 2.6 | B17: Outdoor PIR Motion Sensor (24 V DC), complete with mounting brackets, wiring, programming, testing and commissioning. | C17: Pcs | D17: 74 | F17: =D17*E17 -> 0
A18: 2.7 | B18: 1mx1m(Square Meter) Solar-Powered Smart LED Outdoor Billboard, outdoor full-colour LED display (minimum P5/P6), IP65, integrated industrial controller, 4G/Wi-Fi remote communication, programmable content management, galvanized support frame, complete with mounting hardware, wiring, configuration, testing, commissioning, and operator training as per direction by engineer | C18: Pcs | D18: 14 | F18: =D18*E18 -> 0
A19: 3 | B19: INSTALLATION & COMMISSIONING
A20: 3.1 | B20: Installation, testing, commissioning, photometric testing, GPS recording, training, documentation and handover. | C20: Lot | D20: 1 | F20: =D20*E20 -> 0
A21: SUBTOTAL | F21: =SUM(F9:F20) -> 0
A22: Sub Total in words :
A23: NAME OF BIDDER:
A24: SIGNATURE OF BIDDER:

Sheet Jamhuriya Road
A2: BILL OF QUANTITY (BOQ)
A3: Program Name: SINAAN PROGRAMME
A4: Project Name: Purchase Supply and Installation of 190 Solar Street Lights (5.635km) - PR 051
A5: Road Name: Jamhuriya road (41Poles, 82 Lights 1.23 km, 30mt Span)
A6: Project Location: Mogadishu (BRA), Somalia
A7: Name of Organization/Firm:
A8: Item No. | B8: Description | C8: Unit | D8: Quantity | E8: DAP Unit Price (GBP ) | F8: DAP Total Price (GBP)
A9: 1.1 | B9: Excavation for foundation of the pole in all soil types, not exceeding 1.1 m depth, including dressing, disposal of surplus material, dewatering where required, and all associated works. | C9: m³ | D9: 22.1 | F9: =D9*E9 -> 0
A10: 1.2 | B10: Reinforced concrete foundation complete with anchor bolts, reinforcement steel, formwork, concrete (minimum 3000 psi), curing, backfilling and all associated works as specified. | C10: m³ | D10: 36.16 | F10: =D10*E10 -> 0
A11: 2 | B11: PURCHASE, SUPPLY AND INSTALLATION OF COMPLETE SOLAR STREET LIGHT SYSTEM
A12: 2.1 | B12: LED Luminaire, 150 W, efficacy ≥150 lm/W, IP66, aluminium housing, 5000–6500 K, complete with all accessories. (2 luminaires per pole) | C12: Pcs | D12: 82 | F12: =D12*E12 -> 0
A13: 2.2 | B13: PV Module, 150 Wp Mono-crystalline, complete with galvanized mounting brackets and accessories. (2 modules per pole) | C13: Pcs | D13: 82 | F13: =D13*E13 -> 0
A14: 2.3 | B14: Battery, 12.8 V, 150 Ah LiFePO₄,80% DOD, >2000 cycles with complete with battery enclosure, DC SPD and all relevant accessories. (2 batteries per pole) | C14: Pcs | D14: 82 | F14: =D14*E14 -> 0
A15: 2.4 | B15: MPPT Solar Charge Controller (10 A) with dusk-to-dawn control, battery management, surge protection and all accessories. (2 controllers per pole) | C15: Pcs | D15: 82 | F15: =D15*E15 -> 0
A16: 2.5 | B16: 10 m Hot-Dip Galvanized Octagonal Steel Pole, minimum 3 mm wall thickness, hot-dip galvanized to ISO 1461, complete with double outreach arms,300x300x20mm base plate, 4XM24 anchor bolts, foundation template, hand-hole, cable gland, terminal block, earthing connection, anti-theft locking system, and all accessories. | C16: Pcs | D16: 41 | F16: =D16*E16 -> 0
A17: 2.6 | B17: Outdoor PIR Motion Sensor (24 V DC), complete with mounting brackets, wiring, programming, testing and commissioning. | C17: Pcs | D17: 41 | F17: =D17*E17 -> 0
A18: 2.7 | B18: 1mx1m(Square Meter) Solar-Powered Smart LED Outdoor Billboard, outdoor full-colour LED display (minimum P5/P6), IP65, integrated industrial controller, 4G/Wi-Fi remote communication, programmable content management, galvanized support frame, complete with mounting hardware, wiring, configuration, testing, commissioning, and operator training as per direction by engineer | C18: Pcs | D18: 5 | F18: =D18*E18 -> 0
A19: 3 | B19: INSTALLATION & COMMISSIONING
A20: 3.1 | B20: Installation, testing, commissioning, photometric testing, GPS recording, training, documentation and handover. | C20: Lot | D20: 1 | F20: =D20*E20 -> 0
A21: SUBTOTAL | F21: =SUM(F9:F20) -> 0
A22: Sub Total in words :
A23: NAME OF BIDDER:
A24: SIGNATURE OF BIDDER:

Sheet Maintenance Tools Kit
A2: MANDATORY MAINTENANCE TOOLS KIT
A3: Program Name: SINAAN PROGRAMME
A4: Project Name: Purchase Supply and Installation of 190 Solar Street Lights (5.635km) - PR 051
A5: Project Location: Mogadishu, Somalia
A6: Name of Organization/Firm:
A7: Item No. | B7: Description | C7: Unit | D7: Quantity | E7: DAP Unit Price (GBP ) | F7: DAP Total Price (GBP)
A8: MT1 | B8: Digital True RMS Multimeter (Industrial Grade) | C8: No | D8: 1 | F8: =D8*E8 -> 0
A9: MT2 | B9: DC Clamp Meter (1000 A AC/DC) | C9: No | D9: 1 | F9: =D9*E9 -> 0
A10: MT3 | B10: Insulation Resistance Tester (1000 V Megger) | C10: No | D10: 1 | F10: =D10*E10 -> 0
A11: MT4 | B11: Earth Resistance Tester | C11: No | D11: 1 | F11: =D11*E11 -> 0
A12: MT5 | B12: Solar PV I-V Tester | C12: No | D12: 1 | F12: =D12*E12 -> 0
A13: MT6 | B13: Digital Lux Meter | C13: No | D13: 1 | F13: =D13*E13 -> 0
A14: MT7 | B14: Battery Capacity Tester | C14: No | D14: 1 | F14: =D14*E14 -> 0
A15: MT8 | B15: MC4 Crimping Tool | C15: No | D15: 1 | F15: =D15*E15 -> 0
A16: MT9 | B16: MC4 Connector Assembly Tool Kit | C16: Set | D16: 1 | F16: =D16*E16 -> 0
A17: MT10 | B17: Hydraulic Cable Lug Crimping Tool | C17: No | D17: 1 | F17: =D17*E17 -> 0
A18: MT11 | B18: Torque Wrench Set | C18: Set | D18: 1 | F18: =D18*E18 -> 0
A19: MT12 | B19: Complete Electrician Tool Kit | C19: Set | D19: 1 | F19: =D19*E19 -> 0
... A36: MT29 | B36: Cable Fault Finder / Cable Continuity Tester | C36: No | D36: 1 | F36: =D36*E36 -> 0
A37: SUBTOTAL | F37: =SUM(F8:F36) -> 0
A38: Sub Total in words :
A39: NAME OF BIDDER:
A40: SIGNATURE OF BIDDER:

Sheet Mandatory Spare Parts
A2: Purchase, Supply and Deliver Mandatory Spare parts
A3: Program Name: SINAAN PROGRAMME
A4: Project Name: Purchase Supply and Installation of 190 Solar Street Lights (5.635km) - PR 051
A5: Project Location: Mogadishu, Somalia
A6: Name of Organization/Firm:
A7: Item No. | B7: Description | C7: Unit | D7: Quantity | E7: DAP Unit Price (GBP ) | F7: DAP Total Price (GBP)
A8: SP1 | B8: Complete LED Luminaire (150 W) | C8: No | D8: 8 | F8: =D8*E8 -> 0
A9: SP2 | B9: LED Driver | C9: No | D9: 5 | F9: =D9*E9 -> 0
A10: SP3 | B10: PV Module, 150 Wp Mono-crystalline, complete with mounting accessories. | C10: No | D10: 5 | F10: =D10*E10 -> 0
A11: SP4 | B11: LiFePO₄ Battery Pack (same capacity as installed) | C11: No | D11: 5 | F11: =D11*E11 -> 0
A12: SP5 | B12: 8 m Hot-Dip Galvanized Steel Pole complete with outreach arm, base plate, anchor bolts and accessories. | C12: No | D12: 2 | F12: =D12*E12 -> 0
A13: SP6 | B13: 10 m Hot-Dip Galvanized Octagonal Steel Pole, minimum 3 mm wall thickness, hot-dip galvanized to ISO 1461, complete with double outreach arms,300x300x20mm base plate, 4XM24 anchor bolts, foundation template, hand-hole, cable gland, terminal block, earthing connection, anti-theft locking system, and all accessories. | C13: No | D13: 6 | F13: =D13*E13 -> 0
A14: SP7 | B14: 6 m Hot-Dip Galvanized Steel Pole : base plate 300x300x20mm; 4XM24 anchor bolts, wind load compliant complete with outreach arm, base plate, anchor bolts and accessories. | C14: Pcs | D14: 5 | F14: =D14*E14 -> 0
A15: SP8 | B15: LiFePO₄ Battery Pack (same capacity as installed) | C15: No | D15: 5 | F15: =D15*E15 -> 0
A16: SP9 | B16: MPPT Solar Charge Controller | C16: No | D16: 5 | F16: =D16*E16 -> 0
A17: SP10 | B17: Photocell / Dusk-to-Dawn Controller | C17: No | D17: 10 | F17: =D17*E17 -> 0
A18: SP11 | B18: DC Surge Protection Device (SPD) | C18: No | D18: 10 | F18: =D18*E18 -> 0
A19: SP12 | B19: DC Fuse Set | C19: Set | D19: 15 | F19: =D19*E19 -> 0
... A38: SP31 | B38: RTC/Controller Backup Battery | C38: No | D38: 10 | F38: =D38*E38 -> 0
A39: SUBTOTAL | F39: =SUM(F8:F38) -> 0
A40: Sub Total in words :
A41: NAME OF BIDDER:
A42: SIGNATURE OF BIDDER:
